BEGIN:VCALENDAR
VERSION:2.0
PRODID:-//South Whidbey Parks and Recreation Department - ECPv6.15.20//NONSGML v1.0//EN
CALSCALE:GREGORIAN
METHOD:PUBLISH
X-ORIGINAL-URL:https://swparks.org
X-WR-CALDESC:Events for South Whidbey Parks and Recreation Department
REFRESH-INTERVAL;VALUE=DURATION:PT1H
X-Robots-Tag:noindex
X-PUBLISHED-TTL:PT1H
BEGIN:VTIMEZONE
TZID:America/Los_Angeles
BEGIN:DAYLIGHT
TZOFFSETFROM:-0800
TZOFFSETTO:-0700
TZNAME:PDT
DTSTART:20250309T100000
END:DAYLIGHT
BEGIN:STANDARD
TZOFFSETFROM:-0700
TZOFFSETTO:-0800
TZNAME:PST
DTSTART:20251102T090000
END:STANDARD
BEGIN:DAYLIGHT
TZOFFSETFROM:-0800
TZOFFSETTO:-0700
TZNAME:PDT
DTSTART:20260308T100000
END:DAYLIGHT
BEGIN:STANDARD
TZOFFSETFROM:-0700
TZOFFSETTO:-0800
TZNAME:PST
DTSTART:20261101T090000
END:STANDARD
BEGIN:DAYLIGHT
TZOFFSETFROM:-0800
TZOFFSETTO:-0700
TZNAME:PDT
DTSTART:20270314T100000
END:DAYLIGHT
BEGIN:STANDARD
TZOFFSETFROM:-0700
TZOFFSETTO:-0800
TZNAME:PST
DTSTART:20271107T090000
END:STANDARD
END:VTIMEZONE
BEGIN:VEVENT
DTSTART;TZID=America/Los_Angeles:20260727T090000
DTEND;TZID=America/Los_Angeles:20260727T140000
DTSTAMP:20260419T074200
CREATED:20260409T193032Z
LAST-MODIFIED:20260410T012517Z
UID:10010157-1785142800-1785160800@swparks.org
SUMMARY:Whidbey Watershed Stewards Forest Ranger Camp - Ages 6-8
DESCRIPTION:To register or for more info\, visit https://swparks.org/nature-camp/
URL:https://swparks.org/event/forrest-ranger-camp/2026-07-27/
LOCATION:Maxwelton Outdoor Classroom\, 7015 Maxwelton Road\, Clinton\, WA\, 98236\, United States
CATEGORIES:Camps,Nature & Science,Youth Programs
GEO:47.956369;-122.436229
X-APPLE-STRUCTURED-LOCATION;VALUE=URI;X-ADDRESS=Maxwelton Outdoor Classroom 7015 Maxwelton Road Clinton WA 98236 United States;X-APPLE-RADIUS=500;X-TITLE=7015 Maxwelton Road:geo:-122.436229,47.956369
END:VEVENT
BEGIN:VEVENT
DTSTART;TZID=America/Los_Angeles:20260727T090000
DTEND;TZID=America/Los_Angeles:20260727T143000
DTSTAMP:20260419T074200
CREATED:20260410T010110Z
LAST-MODIFIED:20260410T010444Z
UID:10011335-1785142800-1785162600@swparks.org
SUMMARY:Beginning & Intermediate Youth Sailing - Ages 10-17
DESCRIPTION:For more info or to register\, visit https://swparks.org/youth-sailing/
URL:https://swparks.org/event/beginning-intermediate-youth-sailing-ages-10-17-3/2026-07-27/
LOCATION:Deer Lake\, 4330 Bucktail Lane\, Clinton\, WA\, 98236\, United States
CATEGORIES:Aquatics,Athletics,Camps,Health & Fitness,Sailing,Teen Programs,Youth Programs
GEO:47.973837;-122.380439
X-APPLE-STRUCTURED-LOCATION;VALUE=URI;X-ADDRESS=Deer Lake 4330 Bucktail Lane Clinton WA 98236 United States;X-APPLE-RADIUS=500;X-TITLE=4330 Bucktail Lane:geo:-122.380439,47.973837
END:VEVENT
BEGIN:VEVENT
DTSTART;TZID=America/Los_Angeles:20260727T090000
DTEND;TZID=America/Los_Angeles:20260727T150000
DTSTAMP:20260419T074200
CREATED:20260410T013055Z
LAST-MODIFIED:20260410T013055Z
UID:10011412-1785142800-1785164400@swparks.org
SUMMARY:Skyhawks Flag Football Camp - Ages 6-12
DESCRIPTION:For more info or to register\, visit https://swparks.org/skyhawks/
URL:https://swparks.org/event/skyhawks-flag-football-camp-ages-6-12/2026-07-27/
LOCATION:South Whidbey Sports Complex\, 5598 Langley Road\, Langley\, WA\, 98260\, United States
CATEGORIES:Camps,Flag Football,Soccer,Youth Programs
GEO:48.007408;-122.399714
X-APPLE-STRUCTURED-LOCATION;VALUE=URI;X-ADDRESS=South Whidbey Sports Complex 5598 Langley Road Langley WA 98260 United States;X-APPLE-RADIUS=500;X-TITLE=5598 Langley Road:geo:-122.399714,48.007408
END:VEVENT
BEGIN:VEVENT
DTSTART;TZID=America/Los_Angeles:20260727T140000
DTEND;TZID=America/Los_Angeles:20260727T153000
DTSTAMP:20260419T074200
CREATED:20260408T202139Z
LAST-MODIFIED:20260410T004653Z
UID:10011290-1785160800-1785166200@swparks.org
SUMMARY:Admirals Summer Hoops - Grades 6-8
DESCRIPTION:For more info or to register\, visit https://swparks.org/whidbey-island-admirals-basketball/
URL:https://swparks.org/event/grades-6-8-admirals-summer-hoops/2026-07-27/
LOCATION:South Whidbey Community Center\, 723 Camano Avenue\, Langley\, WA\, 98260\, United States
CATEGORIES:Athletics,Basketball,Camps,Youth Programs
GEO:48.034943;-122.40377
X-APPLE-STRUCTURED-LOCATION;VALUE=URI;X-ADDRESS=South Whidbey Community Center 723 Camano Avenue Langley WA 98260 United States;X-APPLE-RADIUS=500;X-TITLE=723 Camano Avenue:geo:-122.40377,48.034943
END:VEVENT
BEGIN:VEVENT
DTSTART;TZID=America/Los_Angeles:20260728T090000
DTEND;TZID=America/Los_Angeles:20260728T140000
DTSTAMP:20260419T074200
CREATED:20260409T193032Z
LAST-MODIFIED:20260410T012517Z
UID:10011391-1785229200-1785247200@swparks.org
SUMMARY:Whidbey Watershed Stewards Forest Ranger Camp - Ages 6-8
DESCRIPTION:To register or for more info\, visit https://swparks.org/nature-camp/
URL:https://swparks.org/event/forrest-ranger-camp/2026-07-28/
LOCATION:Maxwelton Outdoor Classroom\, 7015 Maxwelton Road\, Clinton\, WA\, 98236\, United States
CATEGORIES:Camps,Nature & Science,Youth Programs
GEO:47.956369;-122.436229
X-APPLE-STRUCTURED-LOCATION;VALUE=URI;X-ADDRESS=Maxwelton Outdoor Classroom 7015 Maxwelton Road Clinton WA 98236 United States;X-APPLE-RADIUS=500;X-TITLE=7015 Maxwelton Road:geo:-122.436229,47.956369
END:VEVENT
BEGIN:VEVENT
DTSTART;TZID=America/Los_Angeles:20260728T090000
DTEND;TZID=America/Los_Angeles:20260728T143000
DTSTAMP:20260419T074200
CREATED:20260410T010110Z
LAST-MODIFIED:20260410T010444Z
UID:10011336-1785229200-1785249000@swparks.org
SUMMARY:Beginning & Intermediate Youth Sailing - Ages 10-17
DESCRIPTION:For more info or to register\, visit https://swparks.org/youth-sailing/
URL:https://swparks.org/event/beginning-intermediate-youth-sailing-ages-10-17-3/2026-07-28/
LOCATION:Deer Lake\, 4330 Bucktail Lane\, Clinton\, WA\, 98236\, United States
CATEGORIES:Aquatics,Athletics,Camps,Health & Fitness,Sailing,Teen Programs,Youth Programs
GEO:47.973837;-122.380439
X-APPLE-STRUCTURED-LOCATION;VALUE=URI;X-ADDRESS=Deer Lake 4330 Bucktail Lane Clinton WA 98236 United States;X-APPLE-RADIUS=500;X-TITLE=4330 Bucktail Lane:geo:-122.380439,47.973837
END:VEVENT
BEGIN:VEVENT
DTSTART;TZID=America/Los_Angeles:20260728T090000
DTEND;TZID=America/Los_Angeles:20260728T150000
DTSTAMP:20260419T074200
CREATED:20260410T013055Z
LAST-MODIFIED:20260410T013055Z
UID:10011413-1785229200-1785250800@swparks.org
SUMMARY:Skyhawks Flag Football Camp - Ages 6-12
DESCRIPTION:For more info or to register\, visit https://swparks.org/skyhawks/
URL:https://swparks.org/event/skyhawks-flag-football-camp-ages-6-12/2026-07-28/
LOCATION:South Whidbey Sports Complex\, 5598 Langley Road\, Langley\, WA\, 98260\, United States
CATEGORIES:Camps,Flag Football,Soccer,Youth Programs
GEO:48.007408;-122.399714
X-APPLE-STRUCTURED-LOCATION;VALUE=URI;X-ADDRESS=South Whidbey Sports Complex 5598 Langley Road Langley WA 98260 United States;X-APPLE-RADIUS=500;X-TITLE=5598 Langley Road:geo:-122.399714,48.007408
END:VEVENT
BEGIN:VEVENT
DTSTART;TZID=America/Los_Angeles:20260729T090000
DTEND;TZID=America/Los_Angeles:20260729T140000
DTSTAMP:20260419T074200
CREATED:20260409T193032Z
LAST-MODIFIED:20260410T012517Z
UID:10011392-1785315600-1785333600@swparks.org
SUMMARY:Whidbey Watershed Stewards Forest Ranger Camp - Ages 6-8
DESCRIPTION:To register or for more info\, visit https://swparks.org/nature-camp/
URL:https://swparks.org/event/forrest-ranger-camp/2026-07-29/
LOCATION:Maxwelton Outdoor Classroom\, 7015 Maxwelton Road\, Clinton\, WA\, 98236\, United States
CATEGORIES:Camps,Nature & Science,Youth Programs
GEO:47.956369;-122.436229
X-APPLE-STRUCTURED-LOCATION;VALUE=URI;X-ADDRESS=Maxwelton Outdoor Classroom 7015 Maxwelton Road Clinton WA 98236 United States;X-APPLE-RADIUS=500;X-TITLE=7015 Maxwelton Road:geo:-122.436229,47.956369
END:VEVENT
BEGIN:VEVENT
DTSTART;TZID=America/Los_Angeles:20260729T090000
DTEND;TZID=America/Los_Angeles:20260729T143000
DTSTAMP:20260419T074200
CREATED:20260410T010110Z
LAST-MODIFIED:20260410T010444Z
UID:10011337-1785315600-1785335400@swparks.org
SUMMARY:Beginning & Intermediate Youth Sailing - Ages 10-17
DESCRIPTION:For more info or to register\, visit https://swparks.org/youth-sailing/
URL:https://swparks.org/event/beginning-intermediate-youth-sailing-ages-10-17-3/2026-07-29/
LOCATION:Deer Lake\, 4330 Bucktail Lane\, Clinton\, WA\, 98236\, United States
CATEGORIES:Aquatics,Athletics,Camps,Health & Fitness,Sailing,Teen Programs,Youth Programs
GEO:47.973837;-122.380439
X-APPLE-STRUCTURED-LOCATION;VALUE=URI;X-ADDRESS=Deer Lake 4330 Bucktail Lane Clinton WA 98236 United States;X-APPLE-RADIUS=500;X-TITLE=4330 Bucktail Lane:geo:-122.380439,47.973837
END:VEVENT
BEGIN:VEVENT
DTSTART;TZID=America/Los_Angeles:20260729T090000
DTEND;TZID=America/Los_Angeles:20260729T150000
DTSTAMP:20260419T074200
CREATED:20260410T013055Z
LAST-MODIFIED:20260410T013055Z
UID:10011414-1785315600-1785337200@swparks.org
SUMMARY:Skyhawks Flag Football Camp - Ages 6-12
DESCRIPTION:For more info or to register\, visit https://swparks.org/skyhawks/
URL:https://swparks.org/event/skyhawks-flag-football-camp-ages-6-12/2026-07-29/
LOCATION:South Whidbey Sports Complex\, 5598 Langley Road\, Langley\, WA\, 98260\, United States
CATEGORIES:Camps,Flag Football,Soccer,Youth Programs
GEO:48.007408;-122.399714
X-APPLE-STRUCTURED-LOCATION;VALUE=URI;X-ADDRESS=South Whidbey Sports Complex 5598 Langley Road Langley WA 98260 United States;X-APPLE-RADIUS=500;X-TITLE=5598 Langley Road:geo:-122.399714,48.007408
END:VEVENT
BEGIN:VEVENT
DTSTART;TZID=America/Los_Angeles:20260729T140000
DTEND;TZID=America/Los_Angeles:20260729T153000
DTSTAMP:20260419T074200
CREATED:20260408T202139Z
LAST-MODIFIED:20260410T004653Z
UID:10011291-1785333600-1785339000@swparks.org
SUMMARY:Admirals Summer Hoops - Grades 6-8
DESCRIPTION:For more info or to register\, visit https://swparks.org/whidbey-island-admirals-basketball/
URL:https://swparks.org/event/grades-6-8-admirals-summer-hoops/2026-07-29/
LOCATION:South Whidbey Community Center\, 723 Camano Avenue\, Langley\, WA\, 98260\, United States
CATEGORIES:Athletics,Basketball,Camps,Youth Programs
GEO:48.034943;-122.40377
X-APPLE-STRUCTURED-LOCATION;VALUE=URI;X-ADDRESS=South Whidbey Community Center 723 Camano Avenue Langley WA 98260 United States;X-APPLE-RADIUS=500;X-TITLE=723 Camano Avenue:geo:-122.40377,48.034943
END:VEVENT
BEGIN:VEVENT
DTSTART;TZID=America/Los_Angeles:20260730T090000
DTEND;TZID=America/Los_Angeles:20260730T140000
DTSTAMP:20260419T074200
CREATED:20260409T193032Z
LAST-MODIFIED:20260410T012517Z
UID:10011393-1785402000-1785420000@swparks.org
SUMMARY:Whidbey Watershed Stewards Forest Ranger Camp - Ages 6-8
DESCRIPTION:To register or for more info\, visit https://swparks.org/nature-camp/
URL:https://swparks.org/event/forrest-ranger-camp/2026-07-30/
LOCATION:Maxwelton Outdoor Classroom\, 7015 Maxwelton Road\, Clinton\, WA\, 98236\, United States
CATEGORIES:Camps,Nature & Science,Youth Programs
GEO:47.956369;-122.436229
X-APPLE-STRUCTURED-LOCATION;VALUE=URI;X-ADDRESS=Maxwelton Outdoor Classroom 7015 Maxwelton Road Clinton WA 98236 United States;X-APPLE-RADIUS=500;X-TITLE=7015 Maxwelton Road:geo:-122.436229,47.956369
END:VEVENT
BEGIN:VEVENT
DTSTART;TZID=America/Los_Angeles:20260730T090000
DTEND;TZID=America/Los_Angeles:20260730T143000
DTSTAMP:20260419T074200
CREATED:20260410T010110Z
LAST-MODIFIED:20260410T010444Z
UID:10011338-1785402000-1785421800@swparks.org
SUMMARY:Beginning & Intermediate Youth Sailing - Ages 10-17
DESCRIPTION:For more info or to register\, visit https://swparks.org/youth-sailing/
URL:https://swparks.org/event/beginning-intermediate-youth-sailing-ages-10-17-3/2026-07-30/
LOCATION:Deer Lake\, 4330 Bucktail Lane\, Clinton\, WA\, 98236\, United States
CATEGORIES:Aquatics,Athletics,Camps,Health & Fitness,Sailing,Teen Programs,Youth Programs
GEO:47.973837;-122.380439
X-APPLE-STRUCTURED-LOCATION;VALUE=URI;X-ADDRESS=Deer Lake 4330 Bucktail Lane Clinton WA 98236 United States;X-APPLE-RADIUS=500;X-TITLE=4330 Bucktail Lane:geo:-122.380439,47.973837
END:VEVENT
BEGIN:VEVENT
DTSTART;TZID=America/Los_Angeles:20260730T090000
DTEND;TZID=America/Los_Angeles:20260730T150000
DTSTAMP:20260419T074200
CREATED:20260410T013055Z
LAST-MODIFIED:20260410T013055Z
UID:10011415-1785402000-1785423600@swparks.org
SUMMARY:Skyhawks Flag Football Camp - Ages 6-12
DESCRIPTION:For more info or to register\, visit https://swparks.org/skyhawks/
URL:https://swparks.org/event/skyhawks-flag-football-camp-ages-6-12/2026-07-30/
LOCATION:South Whidbey Sports Complex\, 5598 Langley Road\, Langley\, WA\, 98260\, United States
CATEGORIES:Camps,Flag Football,Soccer,Youth Programs
GEO:48.007408;-122.399714
X-APPLE-STRUCTURED-LOCATION;VALUE=URI;X-ADDRESS=South Whidbey Sports Complex 5598 Langley Road Langley WA 98260 United States;X-APPLE-RADIUS=500;X-TITLE=5598 Langley Road:geo:-122.399714,48.007408
END:VEVENT
BEGIN:VEVENT
DTSTART;TZID=America/Los_Angeles:20260731T090000
DTEND;TZID=America/Los_Angeles:20260731T140000
DTSTAMP:20260419T074200
CREATED:20260409T193032Z
LAST-MODIFIED:20260410T012517Z
UID:10011394-1785488400-1785506400@swparks.org
SUMMARY:Whidbey Watershed Stewards Forest Ranger Camp - Ages 6-8
DESCRIPTION:To register or for more info\, visit https://swparks.org/nature-camp/
URL:https://swparks.org/event/forrest-ranger-camp/2026-07-31/
LOCATION:Maxwelton Outdoor Classroom\, 7015 Maxwelton Road\, Clinton\, WA\, 98236\, United States
CATEGORIES:Camps,Nature & Science,Youth Programs
GEO:47.956369;-122.436229
X-APPLE-STRUCTURED-LOCATION;VALUE=URI;X-ADDRESS=Maxwelton Outdoor Classroom 7015 Maxwelton Road Clinton WA 98236 United States;X-APPLE-RADIUS=500;X-TITLE=7015 Maxwelton Road:geo:-122.436229,47.956369
END:VEVENT
BEGIN:VEVENT
DTSTART;TZID=America/Los_Angeles:20260731T090000
DTEND;TZID=America/Los_Angeles:20260731T143000
DTSTAMP:20260419T074200
CREATED:20260410T010110Z
LAST-MODIFIED:20260410T010444Z
UID:10011339-1785488400-1785508200@swparks.org
SUMMARY:Beginning & Intermediate Youth Sailing - Ages 10-17
DESCRIPTION:For more info or to register\, visit https://swparks.org/youth-sailing/
URL:https://swparks.org/event/beginning-intermediate-youth-sailing-ages-10-17-3/2026-07-31/
LOCATION:Deer Lake\, 4330 Bucktail Lane\, Clinton\, WA\, 98236\, United States
CATEGORIES:Aquatics,Athletics,Camps,Health & Fitness,Sailing,Teen Programs,Youth Programs
GEO:47.973837;-122.380439
X-APPLE-STRUCTURED-LOCATION;VALUE=URI;X-ADDRESS=Deer Lake 4330 Bucktail Lane Clinton WA 98236 United States;X-APPLE-RADIUS=500;X-TITLE=4330 Bucktail Lane:geo:-122.380439,47.973837
END:VEVENT
BEGIN:VEVENT
DTSTART;TZID=America/Los_Angeles:20260731T090000
DTEND;TZID=America/Los_Angeles:20260731T150000
DTSTAMP:20260419T074200
CREATED:20260410T013055Z
LAST-MODIFIED:20260410T013055Z
UID:10011416-1785488400-1785510000@swparks.org
SUMMARY:Skyhawks Flag Football Camp - Ages 6-12
DESCRIPTION:For more info or to register\, visit https://swparks.org/skyhawks/
URL:https://swparks.org/event/skyhawks-flag-football-camp-ages-6-12/2026-07-31/
LOCATION:South Whidbey Sports Complex\, 5598 Langley Road\, Langley\, WA\, 98260\, United States
CATEGORIES:Camps,Flag Football,Soccer,Youth Programs
GEO:48.007408;-122.399714
X-APPLE-STRUCTURED-LOCATION;VALUE=URI;X-ADDRESS=South Whidbey Sports Complex 5598 Langley Road Langley WA 98260 United States;X-APPLE-RADIUS=500;X-TITLE=5598 Langley Road:geo:-122.399714,48.007408
END:VEVENT
END:VCALENDAR