BEGIN:VCALENDAR
VERSION:2.0
PRODID:-//South Whidbey Parks and Recreation Department - ECPv6.15.20//NONSGML v1.0//EN
CALSCALE:GREGORIAN
METHOD:PUBLISH
X-WR-CALNAME:South Whidbey Parks and Recreation Department
X-ORIGINAL-URL:https://swparks.org
X-WR-CALDESC:Events for South Whidbey Parks and Recreation Department
REFRESH-INTERVAL;VALUE=DURATION:PT1H
X-Robots-Tag:noindex
X-PUBLISHED-TTL:PT1H
BEGIN:VTIMEZONE
TZID:America/Los_Angeles
BEGIN:DAYLIGHT
TZOFFSETFROM:-0800
TZOFFSETTO:-0700
TZNAME:PDT
DTSTART:20250309T100000
END:DAYLIGHT
BEGIN:STANDARD
TZOFFSETFROM:-0700
TZOFFSETTO:-0800
TZNAME:PST
DTSTART:20251102T090000
END:STANDARD
BEGIN:DAYLIGHT
TZOFFSETFROM:-0800
TZOFFSETTO:-0700
TZNAME:PDT
DTSTART:20260308T100000
END:DAYLIGHT
BEGIN:STANDARD
TZOFFSETFROM:-0700
TZOFFSETTO:-0800
TZNAME:PST
DTSTART:20261101T090000
END:STANDARD
BEGIN:DAYLIGHT
TZOFFSETFROM:-0800
TZOFFSETTO:-0700
TZNAME:PDT
DTSTART:20270314T100000
END:DAYLIGHT
BEGIN:STANDARD
TZOFFSETFROM:-0700
TZOFFSETTO:-0800
TZNAME:PST
DTSTART:20271107T090000
END:STANDARD
END:VTIMEZONE
BEGIN:VEVENT
DTSTART;VALUE=DATE:20260817
DTEND;VALUE=DATE:20260818
DTSTAMP:20260419T075649
CREATED:20260409T183858Z
LAST-MODIFIED:20260409T184346Z
UID:10010149-1786924800-1787011199@swparks.org
SUMMARY:Levo Soccer Camp
DESCRIPTION:
URL:https://swparks.org/event/levo-soccer-camp-2/2026-08-17/
LOCATION:WA
CATEGORIES:Camps,Soccer,Youth Programs
END:VEVENT
BEGIN:VEVENT
DTSTART;VALUE=DATE:20260817
DTEND;VALUE=DATE:20260818
DTSTAMP:20260419T075649
CREATED:20260410T014046Z
LAST-MODIFIED:20260410T014046Z
UID:10011443-1786924800-1787011199@swparks.org
SUMMARY:Skyhawks Multi-Sport Camps - Ages 4-12
DESCRIPTION:For more info or to register\, visit https://swparks.org/skyhawks/
URL:https://swparks.org/event/skyhawks-multi-sport-camps-ages-4-12/2026-08-17/
LOCATION:South Whidbey Sports Complex\, 5598 Langley Road\, Langley\, WA\, 98260\, United States
CATEGORIES:Baseball,Basketball,Camps,Soccer,Youth Programs
GEO:48.007408;-122.399714
X-APPLE-STRUCTURED-LOCATION;VALUE=URI;X-ADDRESS=South Whidbey Sports Complex 5598 Langley Road Langley WA 98260 United States;X-APPLE-RADIUS=500;X-TITLE=5598 Langley Road:geo:-122.399714,48.007408
END:VEVENT
BEGIN:VEVENT
DTSTART;TZID=America/Los_Angeles:20260817T090000
DTEND;TZID=America/Los_Angeles:20260817T140000
DTSTAMP:20260419T075649
CREATED:20260410T003941Z
LAST-MODIFIED:20260410T014424Z
UID:10011267-1786957200-1786975200@swparks.org
SUMMARY:Plankton vs Microplastic Quest - Underwater Robotics - Grades 4-10
DESCRIPTION:For more info or to register\, visit www.swparks.org/robotics
URL:https://swparks.org/event/plankton-vs-microplastic-quest-underwater-robotics-grades-4-10/2026-08-17/
LOCATION:Atlantis STEAM\, 9289 Hwy 525\, Clinton\, WA\, 98236\, United States
CATEGORIES:Camps,Nature & Science,Youth Programs
GEO:47.9792463;-122.3653402
X-APPLE-STRUCTURED-LOCATION;VALUE=URI;X-ADDRESS=Atlantis STEAM 9289 Hwy 525 Clinton WA 98236 United States;X-APPLE-RADIUS=500;X-TITLE=9289 Hwy 525:geo:-122.3653402,47.9792463
END:VEVENT
BEGIN:VEVENT
DTSTART;VALUE=DATE:20260818
DTEND;VALUE=DATE:20260819
DTSTAMP:20260419T075649
CREATED:20260409T183858Z
LAST-MODIFIED:20260409T184346Z
UID:10010150-1787011200-1787097599@swparks.org
SUMMARY:Levo Soccer Camp
DESCRIPTION:
URL:https://swparks.org/event/levo-soccer-camp-2/2026-08-18/
LOCATION:WA
CATEGORIES:Camps,Soccer,Youth Programs
END:VEVENT
BEGIN:VEVENT
DTSTART;VALUE=DATE:20260818
DTEND;VALUE=DATE:20260819
DTSTAMP:20260419T075649
CREATED:20260410T014046Z
LAST-MODIFIED:20260410T014046Z
UID:10011444-1787011200-1787097599@swparks.org
SUMMARY:Skyhawks Multi-Sport Camps - Ages 4-12
DESCRIPTION:For more info or to register\, visit https://swparks.org/skyhawks/
URL:https://swparks.org/event/skyhawks-multi-sport-camps-ages-4-12/2026-08-18/
LOCATION:South Whidbey Sports Complex\, 5598 Langley Road\, Langley\, WA\, 98260\, United States
CATEGORIES:Baseball,Basketball,Camps,Soccer,Youth Programs
GEO:48.007408;-122.399714
X-APPLE-STRUCTURED-LOCATION;VALUE=URI;X-ADDRESS=South Whidbey Sports Complex 5598 Langley Road Langley WA 98260 United States;X-APPLE-RADIUS=500;X-TITLE=5598 Langley Road:geo:-122.399714,48.007408
END:VEVENT
BEGIN:VEVENT
DTSTART;TZID=America/Los_Angeles:20260818T090000
DTEND;TZID=America/Los_Angeles:20260818T140000
DTSTAMP:20260419T075649
CREATED:20260410T003941Z
LAST-MODIFIED:20260410T014424Z
UID:10011268-1787043600-1787061600@swparks.org
SUMMARY:Plankton vs Microplastic Quest - Underwater Robotics - Grades 4-10
DESCRIPTION:For more info or to register\, visit www.swparks.org/robotics
URL:https://swparks.org/event/plankton-vs-microplastic-quest-underwater-robotics-grades-4-10/2026-08-18/
LOCATION:Atlantis STEAM\, 9289 Hwy 525\, Clinton\, WA\, 98236\, United States
CATEGORIES:Camps,Nature & Science,Youth Programs
GEO:47.9792463;-122.3653402
X-APPLE-STRUCTURED-LOCATION;VALUE=URI;X-ADDRESS=Atlantis STEAM 9289 Hwy 525 Clinton WA 98236 United States;X-APPLE-RADIUS=500;X-TITLE=9289 Hwy 525:geo:-122.3653402,47.9792463
END:VEVENT
BEGIN:VEVENT
DTSTART;VALUE=DATE:20260819
DTEND;VALUE=DATE:20260820
DTSTAMP:20260419T075649
CREATED:20260409T183858Z
LAST-MODIFIED:20260409T184346Z
UID:10010151-1787097600-1787183999@swparks.org
SUMMARY:Levo Soccer Camp
DESCRIPTION:
URL:https://swparks.org/event/levo-soccer-camp-2/2026-08-19/
LOCATION:WA
CATEGORIES:Camps,Soccer,Youth Programs
END:VEVENT
BEGIN:VEVENT
DTSTART;VALUE=DATE:20260819
DTEND;VALUE=DATE:20260820
DTSTAMP:20260419T075649
CREATED:20260410T014046Z
LAST-MODIFIED:20260410T014046Z
UID:10011445-1787097600-1787183999@swparks.org
SUMMARY:Skyhawks Multi-Sport Camps - Ages 4-12
DESCRIPTION:For more info or to register\, visit https://swparks.org/skyhawks/
URL:https://swparks.org/event/skyhawks-multi-sport-camps-ages-4-12/2026-08-19/
LOCATION:South Whidbey Sports Complex\, 5598 Langley Road\, Langley\, WA\, 98260\, United States
CATEGORIES:Baseball,Basketball,Camps,Soccer,Youth Programs
GEO:48.007408;-122.399714
X-APPLE-STRUCTURED-LOCATION;VALUE=URI;X-ADDRESS=South Whidbey Sports Complex 5598 Langley Road Langley WA 98260 United States;X-APPLE-RADIUS=500;X-TITLE=5598 Langley Road:geo:-122.399714,48.007408
END:VEVENT
BEGIN:VEVENT
DTSTART;TZID=America/Los_Angeles:20260819T090000
DTEND;TZID=America/Los_Angeles:20260819T140000
DTSTAMP:20260419T075649
CREATED:20260410T003941Z
LAST-MODIFIED:20260410T014424Z
UID:10011269-1787130000-1787148000@swparks.org
SUMMARY:Plankton vs Microplastic Quest - Underwater Robotics - Grades 4-10
DESCRIPTION:For more info or to register\, visit www.swparks.org/robotics
URL:https://swparks.org/event/plankton-vs-microplastic-quest-underwater-robotics-grades-4-10/2026-08-19/
LOCATION:Atlantis STEAM\, 9289 Hwy 525\, Clinton\, WA\, 98236\, United States
CATEGORIES:Camps,Nature & Science,Youth Programs
GEO:47.9792463;-122.3653402
X-APPLE-STRUCTURED-LOCATION;VALUE=URI;X-ADDRESS=Atlantis STEAM 9289 Hwy 525 Clinton WA 98236 United States;X-APPLE-RADIUS=500;X-TITLE=9289 Hwy 525:geo:-122.3653402,47.9792463
END:VEVENT
BEGIN:VEVENT
DTSTART;VALUE=DATE:20260820
DTEND;VALUE=DATE:20260821
DTSTAMP:20260419T075649
CREATED:20260409T183858Z
LAST-MODIFIED:20260409T184346Z
UID:10010152-1787184000-1787270399@swparks.org
SUMMARY:Levo Soccer Camp
DESCRIPTION:
URL:https://swparks.org/event/levo-soccer-camp-2/2026-08-20/
LOCATION:WA
CATEGORIES:Camps,Soccer,Youth Programs
END:VEVENT
BEGIN:VEVENT
DTSTART;VALUE=DATE:20260820
DTEND;VALUE=DATE:20260821
DTSTAMP:20260419T075649
CREATED:20260410T014046Z
LAST-MODIFIED:20260410T014046Z
UID:10011446-1787184000-1787270399@swparks.org
SUMMARY:Skyhawks Multi-Sport Camps - Ages 4-12
DESCRIPTION:For more info or to register\, visit https://swparks.org/skyhawks/
URL:https://swparks.org/event/skyhawks-multi-sport-camps-ages-4-12/2026-08-20/
LOCATION:South Whidbey Sports Complex\, 5598 Langley Road\, Langley\, WA\, 98260\, United States
CATEGORIES:Baseball,Basketball,Camps,Soccer,Youth Programs
GEO:48.007408;-122.399714
X-APPLE-STRUCTURED-LOCATION;VALUE=URI;X-ADDRESS=South Whidbey Sports Complex 5598 Langley Road Langley WA 98260 United States;X-APPLE-RADIUS=500;X-TITLE=5598 Langley Road:geo:-122.399714,48.007408
END:VEVENT
BEGIN:VEVENT
DTSTART;TZID=America/Los_Angeles:20260820T090000
DTEND;TZID=America/Los_Angeles:20260820T140000
DTSTAMP:20260419T075649
CREATED:20260410T003941Z
LAST-MODIFIED:20260410T014424Z
UID:10011270-1787216400-1787234400@swparks.org
SUMMARY:Plankton vs Microplastic Quest - Underwater Robotics - Grades 4-10
DESCRIPTION:For more info or to register\, visit www.swparks.org/robotics
URL:https://swparks.org/event/plankton-vs-microplastic-quest-underwater-robotics-grades-4-10/2026-08-20/
LOCATION:Atlantis STEAM\, 9289 Hwy 525\, Clinton\, WA\, 98236\, United States
CATEGORIES:Camps,Nature & Science,Youth Programs
GEO:47.9792463;-122.3653402
X-APPLE-STRUCTURED-LOCATION;VALUE=URI;X-ADDRESS=Atlantis STEAM 9289 Hwy 525 Clinton WA 98236 United States;X-APPLE-RADIUS=500;X-TITLE=9289 Hwy 525:geo:-122.3653402,47.9792463
END:VEVENT
BEGIN:VEVENT
DTSTART;VALUE=DATE:20260821
DTEND;VALUE=DATE:20260822
DTSTAMP:20260419T075649
CREATED:20260410T014046Z
LAST-MODIFIED:20260410T014046Z
UID:10011447-1787270400-1787356799@swparks.org
SUMMARY:Skyhawks Multi-Sport Camps - Ages 4-12
DESCRIPTION:For more info or to register\, visit https://swparks.org/skyhawks/
URL:https://swparks.org/event/skyhawks-multi-sport-camps-ages-4-12/2026-08-21/
LOCATION:South Whidbey Sports Complex\, 5598 Langley Road\, Langley\, WA\, 98260\, United States
CATEGORIES:Baseball,Basketball,Camps,Soccer,Youth Programs
GEO:48.007408;-122.399714
X-APPLE-STRUCTURED-LOCATION;VALUE=URI;X-ADDRESS=South Whidbey Sports Complex 5598 Langley Road Langley WA 98260 United States;X-APPLE-RADIUS=500;X-TITLE=5598 Langley Road:geo:-122.399714,48.007408
END:VEVENT
BEGIN:VEVENT
DTSTART;TZID=America/Los_Angeles:20260821T090000
DTEND;TZID=America/Los_Angeles:20260821T140000
DTSTAMP:20260419T075649
CREATED:20260410T003941Z
LAST-MODIFIED:20260410T014424Z
UID:10011271-1787302800-1787320800@swparks.org
SUMMARY:Plankton vs Microplastic Quest - Underwater Robotics - Grades 4-10
DESCRIPTION:For more info or to register\, visit www.swparks.org/robotics
URL:https://swparks.org/event/plankton-vs-microplastic-quest-underwater-robotics-grades-4-10/2026-08-21/
LOCATION:Atlantis STEAM\, 9289 Hwy 525\, Clinton\, WA\, 98236\, United States
CATEGORIES:Camps,Nature & Science,Youth Programs
GEO:47.9792463;-122.3653402
X-APPLE-STRUCTURED-LOCATION;VALUE=URI;X-ADDRESS=Atlantis STEAM 9289 Hwy 525 Clinton WA 98236 United States;X-APPLE-RADIUS=500;X-TITLE=9289 Hwy 525:geo:-122.3653402,47.9792463
END:VEVENT
END:VCALENDAR